BEGIN:VCALENDAR
VERSION:2.0
PRODID:-//wp-events-plugin.com//7.2.3.1//EN
TZID:America/Chicago
X-WR-TIMEZONE:America/Chicago
BEGIN:VEVENT
UID:818@lewisburgtn.gov
DTSTART;TZID=America/Chicago:20250226T160000
DTEND;TZID=America/Chicago:20250226T190000
DTSTAMP:20250129T152749Z
URL:https://lewisburgtn.gov/events/lewisburg-parks-recreation-advisory-boa
 rd-2/
SUMMARY:Lewisburg Parks & Recreation Advisory Board
DESCRIPTION:The Advisory Board has scheduled a work session meeting located
  in the small conference.
CATEGORIES:General Events
LOCATION:Lewisburg Recreation Center\, 1551 Mooresville Hwy.\, Lewisburg\, 
 TN\, 37091\, United States
GEO:35.45077;-86.813953
X-APPLE-STRUCTURED-LOCATION;VALUE=URI;X-ADDRESS=1551 Mooresville Hwy.\, Lew
 isburg\, TN\, 37091\, United States;X-APPLE-RADIUS=100;X-TITLE=Lewisburg R
 ecreation Center:geo:35.45077,-86.813953
END:VEVENT
BEGIN:VTIMEZONE
TZID:America/Chicago
X-LIC-LOCATION:America/Chicago
BEGIN:STANDARD
DTSTART:20241103T010000
TZOFFSETFROM:-0500
TZOFFSETTO:-0600
TZNAME:CST
END:STANDARD
END:VTIMEZONE
END:VCALENDAR