BEGIN:VCALENDAR
VERSION:2.0
PRODID:-//wp-events-plugin.com//7.2.3.1//EN
TZID:America/Chicago
X-WR-TIMEZONE:America/Chicago
BEGIN:VEVENT
UID:822@lewisburgtn.gov
DTSTART;TZID=America/Chicago:20250310T120000
DTEND;TZID=America/Chicago:20250310T130000
DTSTAMP:20250430T174123Z
URL:https://lewisburgtn.gov/events/industrial-dev-board-2/
SUMMARY:Industrial Dev. Board
DESCRIPTION:Regular monthly meeting of Industrial Dev. Board-1st Monday of 
 each month.
CATEGORIES:General Events,Industrial Development Board Meeting
LOCATION:Historical 1st Ave bldg\, 207 1st Ave. North \, Lewisburg\,\, Unit
 ed States
GEO:37.796447;-80.450995
X-APPLE-STRUCTURED-LOCATION;VALUE=URI;X-ADDRESS=207 1st Ave. North \, Lewis
 burg\,\, United States;X-APPLE-RADIUS=100;X-TITLE=Historical 1st Ave bldg:
 geo:37.796447,-80.450995
END:VEVENT
BEGIN:VTIMEZONE
TZID:America/Chicago
X-LIC-LOCATION:America/Chicago
BEGIN:DAYLIGHT
DTSTART:20250309T030000
TZOFFSETFROM:-0600
TZOFFSETTO:-0500
TZNAME:CDT
END:DAYLIGHT
END:VTIMEZONE
END:VCALENDAR