BEGIN:VCALENDAR
VERSION:2.0
PRODID:-//wp-events-plugin.com//7.2.3.1//EN
TZID:America/Chicago
X-WR-TIMEZONE:America/Chicago
BEGIN:VEVENT
UID:900@lewisburgtn.gov
DTSTART;TZID=America/Chicago;VALUE=DATE:20250704
DTEND;TZID=America/Chicago;VALUE=DATE:20250705
DTSTAMP:20250626T185427Z
URL:https://lewisburgtn.gov/events/holiday-all-city-offices-closed-18/
SUMMARY:Holiday - All City Offices Closed
DESCRIPTION:All City offices will be closed on Friday\, July 4th\, 2025in o
 bservation of Independence Day.
CATEGORIES:Airport Board,City Council,City Court,Electric Board,Gas
 Board,General Events,Planning &amp; Zoning,Water Board
LOCATION:Lewisburg City Hall\, 131 East Church St.\, Lewisburg\, TN\, 37091
 \, United States
GEO:39.422768;-77.394883
X-APPLE-STRUCTURED-LOCATION;VALUE=URI;X-ADDRESS=131 East Church St.\, Lewis
 burg\, TN\, 37091\, United States;X-APPLE-RADIUS=100;X-TITLE=Lewisburg Cit
 y Hall:geo:39.422768,-77.394883
END:VEVENT
BEGIN:VTIMEZONE
TZID:America/Chicago
X-LIC-LOCATION:America/Chicago
BEGIN:DAYLIGHT
DTSTART:20250309T030000
TZOFFSETFROM:-0600
TZOFFSETTO:-0500
TZNAME:CDT
END:DAYLIGHT
END:VTIMEZONE
END:VCALENDAR