BEGIN:VCALENDAR
VERSION:2.0
PRODID:-//wp-events-plugin.com//7.2.3.1//EN
TZID:America/Chicago
X-WR-TIMEZONE:America/Chicago
BEGIN:VEVENT
UID:739@lewisburgtn.gov
DTSTART;TZID=America/Chicago:20240902T000000
DTEND;TZID=America/Chicago:20240902T235900
DTSTAMP:20240702T182433Z
URL:https://lewisburgtn.gov/events/holiday-all-city-offices-closed-12/
SUMMARY:Holiday All City Offices Closed
DESCRIPTION:All City of Lewisburg will be closed in observation of Labor Da
 y holiday.
CATEGORIES:City Council,City Court,General Events,Parks &amp;
 Recreation,Planning &amp; Zoning
LOCATION:Lewisburg City Hall\, 131 East Church St.\, Lewisburg\, TN\, 37091
 \, United States
GEO:39.422768;-77.394883
X-APPLE-STRUCTURED-LOCATION;VALUE=URI;X-ADDRESS=131 East Church St.\, Lewis
 burg\, TN\, 37091\, United States;X-APPLE-RADIUS=100;X-TITLE=Lewisburg Cit
 y Hall:geo:39.422768,-77.394883
END:VEVENT
BEGIN:VTIMEZONE
TZID:America/Chicago
X-LIC-LOCATION:America/Chicago
BEGIN:DAYLIGHT
DTSTART:20240310T030000
TZOFFSETFROM:-0600
TZOFFSETTO:-0500
TZNAME:CDT
END:DAYLIGHT
END:VTIMEZONE
END:VCALENDAR